BEGIN:VCALENDAR
VERSION:2.0
PRODID:-//稲美スポーツサイクルスクール - ECPv6.15.20//NONSGML v1.0//EN
CALSCALE:GREGORIAN
METHOD:PUBLISH
X-WR-CALNAME:稲美スポーツサイクルスクール
X-ORIGINAL-URL:https://hbla-japan.com
X-WR-CALDESC:稲美スポーツサイクルスクール のイベント
REFRESH-INTERVAL;VALUE=DURATION:PT1H
X-Robots-Tag:noindex
X-PUBLISHED-TTL:PT1H
BEGIN:VTIMEZONE
TZID:Asia/Tokyo
BEGIN:STANDARD
TZOFFSETFROM:+0900
TZOFFSETTO:+0900
TZNAME:JST
DTSTART:20240101T000000
END:STANDARD
END:VTIMEZONE
BEGIN:VEVENT
DTSTART;TZID=Asia/Tokyo:20250914T080000
DTEND;TZID=Asia/Tokyo:20250914T130000
DTSTAMP:20260422T011422
CREATED:20250905T034952Z
LAST-MODIFIED:20250905T034952Z
UID:6820-1757836800-1757854800@hbla-japan.com
SUMMARY:鬼平コロッケライド
DESCRIPTION:ジャンル\n近場で頑張り・美味しく遊ぶ\n\n\nサイクリングレベル\nショート\n\n\n\n\nこんな方におすすめ\n\n\n\nしっかり頑張った後の唐揚げ・揚げ物が大好きな方\n近場で走りやすいコースを楽しみたい方\n最近の調子を確かめたい方\n鬼平コロッケの下品な（めっちゃニンニクが効いた）アツアツ揚げ物を楽しみたい方\n\n\n\nイベント概要\nこの揚げ物やさんの写真を見てください。 \nこの店構えを見てゴクリと喉が鳴った方は是非。 \nご参加すべきでしょう。 \nこのみんなに愛される下町の味を楽しみに、 \n近場の走りやすい道を頑張りサイクリングしましょう。 \nスキルアップレッスンで馴染みの木見を出発して先ずは明石の海沿いまで南下。 \nそして大蔵海岸や須磨の海沿いを気持ちよく風に乗って走りましょう。 \n「もう須磨かぁ」と思っていると、直ぐに目的の鬼平コロッケが見えてきて嬉しくなります。 \nそこでご褒美を楽しんだ後は須磨の離宮公園坂で脚試し。 \n行きで調子に乗った脚で存分に踏んでエクササイズしましょう。 \nまた広域農道のアップダウンも程よいがん張り所として魅力的です。 \nスタート地点にチャレンジングに元気に戻ってきてから \n皆さんの健闘を称えて冷たいドリンクで乾杯しますかぁ。 \n  \n参加者の皆さんに合わせた \n隊列・ペース配分を行いつつ、 \n纏まって走る部分とフリー区間を明確に分けますので \n多くの方に満足度の高いライドです。 \n  \n補足：当スクールのモットーは挑戦と成長です。 \nそれに基づき講習やライドをサポートしております。 \nルート\n５０ｋｍ \n４５０ｍ獲得標高 \nhttps://www.strava.com/routes/3228638930819403296 \n必要能力参考（★★★★★　5段階評価）\n\n\n\n登坂脚力\n★★\n\n\n登坂繰り返し力\n★★\n\n\n登坂トラクション能力\n★\n\n\n下りのコーナーリング能力\n★★\n\n\n下りのブレーキング能力\n★★\n\n\n集団走行能力\n★★\n\n\n障害物回避能力\n★\n\n\n路面ギャップ処理能力\n★\n\n\n平坦巡行能力\n★★\n\n\n\n集合場所\n木見中央公園 \nhttps://maps.app.goo.gl/o6Kzdjh3BLYTdMUe6 \n集合/ 出発時間\n集合： ７時４５分 \nミーティング： ７時４５分～ \n出発： ８時００分 \n参加費\n3000円/人(税込) \n当スクール会員様は会員特典にて2000円/人（税込み） \n（お昼ご飯別途） \n注意⚠️\nパンク修理やトラブルなど、 \nご自身で修理することを前提に \n機材を持参、工夫しましょう。 \nサイクリング時はどんな時（特に下り）も \n余裕を持ちましょう。 \n  \n皆で仲間の安全と健康に \n配慮して走りましょう。 \nご自身で対応が難しい \nトラブルが発生した場合は \n講師が対応しますのでご安心を。 \n講師もサイクリングを楽しみます。 \n  \n※体調が悪い場合は事前に申し出て \n参加を見合わせてください。 \n  \n※サイクリング後に熱など \n体調不良が発生した場合は \n速やかに主催者に状況を連絡、説明ください。 \n天気による影響、大会開催の可否について\n前日正午のウェザーニュースの情報にて \n当日の降水確率が６０％以上ある場合は \n中止とし連絡致します。 \n\nその他のイベントをチェックする \nイベントに申し込む
URL:https://hbla-japan.com/event/20250914/
CATEGORIES:チャレンジライド
ATTACH;FMTTYPE=image/png:https://hbla-japan.com/wp-content/uploads/2025/09/ISCS-event-2.png
ORGANIZER;CN="%E7%A8%B2%E7%BE%8E%E3%82%B9%E3%83%9D%E3%83%BC%E3%83%84%E3%82%B5%E3%82%A4%E3%82%AF%E3%83%AB%E3%82%B9%E3%82%AF%E3%83%BC%E3%83%AB":MAILTO:info@hbla-japan.com
END:VEVENT
END:VCALENDAR